BEGIN:VCALENDAR
VERSION:2.0
PRODID:-//rssny.org//NONSGML kigkonsult.se iCalcreator 2.30.10//
CALSCALE:GREGORIAN
METHOD:PUBLISH
UID:8e6b51d6-40ba-4ce9-ac74-0fdc8f4ce5fd
X-WR-CALDESC:Open to any skill level.
X-WR-RELCALID:f6bcc0c82787f98c461ff6e5df5aab2f
X-WR-TIMEZONE:America/New_York
BEGIN:VTIMEZONE
TZID:America/New_York
BEGIN:STANDARD
TZNAME:EST
DTSTART:20221106T020000
TZOFFSETFROM:-0400
TZOFFSETTO:-0500
RDATE:20231105T020000
END:STANDARD
BEGIN:DAYLIGHT
TZNAME:EDT
DTSTART:20220313T020000
TZOFFSETFROM:-0500
TZOFFSETTO:-0400
RDATE:20230312T020000
RDATE:20240310T020000
END:DAYLIGHT
END:VTIMEZONE
BEGIN:VEVENT
UID:325fb776-ecfe-40d5-9c2f-4e2d5955bfcf
DTSTAMP:20260426T041700Z
DESCRIPTION:Open to any skill level.
DTSTART;TZID=America/New_York:20230301T130000
DTEND;TZID=America/New_York:20230301T150000
LOCATION:
SUMMARY:IN PERSON Mahjongg
END:VEVENT
END:VCALENDAR
