BEGIN:VCALENDAR
VERSION:2.0
PRODID:-//rssny.org//NONSGML kigkonsult.se iCalcreator 2.30.10//
CALSCALE:GREGORIAN
METHOD:PUBLISH
UID:d9315f54-be4e-462c-8e74-4d025fa95a40
X-WR-CALDESC:Join us for breakfast at the Center!
X-WR-RELCALID:12a1e5648d3a0c7a35f6d0fe7fe4f4be
X-WR-TIMEZONE:America/New_York
BEGIN:VTIMEZONE
TZID:America/New_York
BEGIN:STANDARD
TZNAME:EST
DTSTART:20261101T020000
TZOFFSETFROM:-0400
TZOFFSETTO:-0500
RDATE:20271107T020000
END:STANDARD
BEGIN:DAYLIGHT
TZNAME:EDT
DTSTART:20260308T020000
TZOFFSETFROM:-0500
TZOFFSETTO:-0400
RDATE:20270314T020000
RDATE:20280312T020000
END:DAYLIGHT
END:VTIMEZONE
BEGIN:VEVENT
UID:2e749e26-1b25-40ca-94f7-061110c90fac
DTSTAMP:20260420T185241Z
DESCRIPTION:Join us for breakfast at the Center!
DTSTART;TZID=America/New_York:20270125T090000
DTEND;TZID=America/New_York:20270125T100000
LOCATION:
SUMMARY:Breakfast Club (In Center)
END:VEVENT
END:VCALENDAR
