BEGIN:VCALENDAR
VERSION:2.0
PRODID:-//rssny.org//NONSGML kigkonsult.se iCalcreator 2.30.10//
CALSCALE:GREGORIAN
METHOD:PUBLISH
UID:3e389247-1f2e-4224-9879-13871e28cc55
X-WR-CALDESC:Join us for breakfast at the Center!
X-WR-RELCALID:240fd611133d72e5a80ca8b37a8be7f7
X-WR-TIMEZONE:America/New_York
BEGIN:VTIMEZONE
TZID:America/New_York
BEGIN:STANDARD
TZNAME:EST
DTSTART:20261101T020000
TZOFFSETFROM:-0400
TZOFFSETTO:-0500
RDATE:20271107T020000
END:STANDARD
BEGIN:DAYLIGHT
TZNAME:EDT
DTSTART:20260308T020000
TZOFFSETFROM:-0500
TZOFFSETTO:-0400
RDATE:20270314T020000
RDATE:20280312T020000
END:DAYLIGHT
END:VTIMEZONE
BEGIN:VEVENT
UID:73d4d8a9-9f00-40e4-866d-6568f610f49f
DTSTAMP:20260420T185225Z
DESCRIPTION:Join us for breakfast at the Center!
DTSTART;TZID=America/New_York:20270120T090000
DTEND;TZID=America/New_York:20270120T100000
LOCATION:
SUMMARY:Breakfast Club (In Center)
END:VEVENT
END:VCALENDAR
