BEGIN:VCALENDAR
VERSION:2.0
PRODID:-//rssny.org//NONSGML kigkonsult.se iCalcreator 2.30.10//
CALSCALE:GREGORIAN
METHOD:PUBLISH
UID:2ed4f4b8-2c9f-409c-a3a3-5cbc6c2dcf43
X-WR-CALDESC:Join us for breakfast at the Center!
X-WR-RELCALID:720f37e3cf73ee0999058bc8321ada96
X-WR-TIMEZONE:America/New_York
BEGIN:VTIMEZONE
TZID:America/New_York
BEGIN:STANDARD
TZNAME:EST
DTSTART:20261101T020000
TZOFFSETFROM:-0400
TZOFFSETTO:-0500
RDATE:20271107T020000
END:STANDARD
BEGIN:DAYLIGHT
TZNAME:EDT
DTSTART:20260308T020000
TZOFFSETFROM:-0500
TZOFFSETTO:-0400
RDATE:20270314T020000
RDATE:20280312T020000
END:DAYLIGHT
END:VTIMEZONE
BEGIN:VEVENT
UID:95493378-ea8a-4553-ba46-eef3f9cb17a3
DTSTAMP:20260420T185225Z
DESCRIPTION:Join us for breakfast at the Center!
DTSTART;TZID=America/New_York:20270118T090000
DTEND;TZID=America/New_York:20270118T100000
LOCATION:
SUMMARY:Breakfast Club (In Center)
END:VEVENT
END:VCALENDAR
