BEGIN:VCALENDAR
VERSION:2.0
PRODID:-//rssny.org//NONSGML kigkonsult.se iCalcreator 2.30.10//
CALSCALE:GREGORIAN
METHOD:PUBLISH
UID:491904a5-99dc-4496-8d12-4bfcea0173c8
X-WR-CALDESC:Join us for breakfast at the Center!
X-WR-RELCALID:6728d024e7860f9448f20774d7736890
X-WR-TIMEZONE:America/New_York
BEGIN:VTIMEZONE
TZID:America/New_York
BEGIN:STANDARD
TZNAME:EST
DTSTART:20261101T020000
TZOFFSETFROM:-0400
TZOFFSETTO:-0500
RDATE:20271107T020000
END:STANDARD
BEGIN:DAYLIGHT
TZNAME:EDT
DTSTART:20260308T020000
TZOFFSETFROM:-0500
TZOFFSETTO:-0400
RDATE:20270314T020000
RDATE:20280312T020000
END:DAYLIGHT
END:VTIMEZONE
BEGIN:VEVENT
UID:c394c5f8-06d9-4320-89bb-5d3e20e73683
DTSTAMP:20260420T185228Z
DESCRIPTION:Join us for breakfast at the Center!
DTSTART;TZID=America/New_York:20270108T090000
DTEND;TZID=America/New_York:20270108T100000
LOCATION:
SUMMARY:Breakfast Club (In Center)
END:VEVENT
END:VCALENDAR
