BEGIN:VCALENDAR
VERSION:2.0
PRODID:-//rssny.org//NONSGML kigkonsult.se iCalcreator 2.30.10//
CALSCALE:GREGORIAN
METHOD:PUBLISH
UID:d2c2a145-9755-49cf-b525-7c0204740b98
X-WR-CALDESC:Join us for breakfast at the Center!
X-WR-RELCALID:fc944d07cbb8aad8cfec3f2a64591cfe
X-WR-TIMEZONE:America/New_York
BEGIN:VTIMEZONE
TZID:America/New_York
BEGIN:STANDARD
TZNAME:EST
DTSTART:20261101T020000
TZOFFSETFROM:-0400
TZOFFSETTO:-0500
RDATE:20271107T020000
END:STANDARD
BEGIN:DAYLIGHT
TZNAME:EDT
DTSTART:20260308T020000
TZOFFSETFROM:-0500
TZOFFSETTO:-0400
RDATE:20270314T020000
RDATE:20280312T020000
END:DAYLIGHT
END:VTIMEZONE
BEGIN:VEVENT
UID:4a22e595-95b7-4ebd-8e19-9817d31ae5b6
DTSTAMP:20260420T185227Z
DESCRIPTION:Join us for breakfast at the Center!
DTSTART;TZID=America/New_York:20270106T090000
DTEND;TZID=America/New_York:20270106T100000
LOCATION:
SUMMARY:Breakfast Club (In Center)
END:VEVENT
END:VCALENDAR
