BEGIN:VCALENDAR
VERSION:2.0
PRODID:-//rssny.org//NONSGML kigkonsult.se iCalcreator 2.30.10//
CALSCALE:GREGORIAN
METHOD:PUBLISH
UID:be604cea-3f92-461e-9ee0-9fe380f5f084
X-WR-CALDESC:Join us for breakfast at the Center!
X-WR-RELCALID:590f192cf57f80fa8fa48401dd1bec21
X-WR-TIMEZONE:America/New_York
BEGIN:VTIMEZONE
TZID:America/New_York
BEGIN:STANDARD
TZNAME:EST
DTSTART:20261101T020000
TZOFFSETFROM:-0400
TZOFFSETTO:-0500
RDATE:20271107T020000
END:STANDARD
BEGIN:DAYLIGHT
TZNAME:EDT
DTSTART:20260308T020000
TZOFFSETFROM:-0500
TZOFFSETTO:-0400
RDATE:20270314T020000
RDATE:20280312T020000
END:DAYLIGHT
END:VTIMEZONE
BEGIN:VEVENT
UID:495fcd1e-d8be-4a2f-862a-ff1820aea1d0
DTSTAMP:20260420T171402Z
DESCRIPTION:Join us for breakfast at the Center!
DTSTART;TZID=America/New_York:20261223T090000
DTEND;TZID=America/New_York:20261223T100000
LOCATION:
SUMMARY:Breakfast Club (In Center)
END:VEVENT
END:VCALENDAR
