BEGIN:VCALENDAR
VERSION:2.0
PRODID:-//rssny.org//NONSGML kigkonsult.se iCalcreator 2.30.10//
CALSCALE:GREGORIAN
METHOD:PUBLISH
UID:f0504bd7-4fc8-4649-8cb9-d3555cfcc4bf
X-WR-CALDESC:Join us for breakfast at the Center!
X-WR-RELCALID:6d74437e6271ef53540c08ca3ffb1469
X-WR-TIMEZONE:America/New_York
BEGIN:VTIMEZONE
TZID:America/New_York
BEGIN:STANDARD
TZNAME:EST
DTSTART:20261101T020000
TZOFFSETFROM:-0400
TZOFFSETTO:-0500
RDATE:20271107T020000
END:STANDARD
BEGIN:DAYLIGHT
TZNAME:EDT
DTSTART:20260308T020000
TZOFFSETFROM:-0500
TZOFFSETTO:-0400
RDATE:20270314T020000
RDATE:20280312T020000
END:DAYLIGHT
END:VTIMEZONE
BEGIN:VEVENT
UID:eecb8145-7959-4e08-b4d1-d2d9dc81585d
DTSTAMP:20260420T171517Z
DESCRIPTION:Join us for breakfast at the Center!
DTSTART;TZID=America/New_York:20261207T090000
DTEND;TZID=America/New_York:20261207T100000
LOCATION:
SUMMARY:Breakfast Club (In Center)
END:VEVENT
END:VCALENDAR
