BEGIN:VCALENDAR
VERSION:2.0
PRODID:-//rssny.org//NONSGML kigkonsult.se iCalcreator 2.30.10//
CALSCALE:GREGORIAN
METHOD:PUBLISH
UID:1ad6cc38-b94e-43ab-8204-2a20c6abeebe
X-WR-CALDESC:Join us for breakfast at the Center!
X-WR-RELCALID:d51c36ddd452b5f69d6e0695f67e56e4
X-WR-TIMEZONE:America/New_York
BEGIN:VTIMEZONE
TZID:America/New_York
BEGIN:STANDARD
TZNAME:EST
DTSTART:20261101T020000
TZOFFSETFROM:-0400
TZOFFSETTO:-0500
RDATE:20271107T020000
END:STANDARD
BEGIN:DAYLIGHT
TZNAME:EDT
DTSTART:20260308T020000
TZOFFSETFROM:-0500
TZOFFSETTO:-0400
RDATE:20270314T020000
RDATE:20280312T020000
END:DAYLIGHT
END:VTIMEZONE
BEGIN:VEVENT
UID:efc712c7-6fb2-4bd3-a5bd-64f199151713
DTSTAMP:20260420T153625Z
DESCRIPTION:Join us for breakfast at the Center!
DTSTART;TZID=America/New_York:20261118T090000
DTEND;TZID=America/New_York:20261118T100000
LOCATION:
SUMMARY:Breakfast Club (In Center)
END:VEVENT
END:VCALENDAR
