BEGIN:VCALENDAR
VERSION:2.0
PRODID:-//rssny.org//NONSGML kigkonsult.se iCalcreator 2.30.10//
CALSCALE:GREGORIAN
METHOD:PUBLISH
UID:480db62c-61f1-47b9-af40-3531e868dfb7
X-WR-CALDESC:Join us for breakfast at the Center!
X-WR-RELCALID:cabe04b0c6b4dd0f16093a6d39adc0de
X-WR-TIMEZONE:America/New_York
BEGIN:VTIMEZONE
TZID:America/New_York
BEGIN:STANDARD
TZNAME:EST
DTSTART:20261101T020000
TZOFFSETFROM:-0400
TZOFFSETTO:-0500
RDATE:20271107T020000
END:STANDARD
BEGIN:DAYLIGHT
TZNAME:EDT
DTSTART:20260308T020000
TZOFFSETFROM:-0500
TZOFFSETTO:-0400
RDATE:20270314T020000
RDATE:20280312T020000
END:DAYLIGHT
END:VTIMEZONE
BEGIN:VEVENT
UID:252ef21e-0488-445a-9bc9-7b8555ab53a3
DTSTAMP:20260420T153651Z
DESCRIPTION:Join us for breakfast at the Center!
DTSTART;TZID=America/New_York:20261111T090000
DTEND;TZID=America/New_York:20261111T100000
LOCATION:
SUMMARY:Breakfast Club (In Center)
END:VEVENT
END:VCALENDAR
