BEGIN:VCALENDAR
VERSION:2.0
PRODID:-//rssny.org//NONSGML kigkonsult.se iCalcreator 2.30.10//
CALSCALE:GREGORIAN
METHOD:PUBLISH
UID:3c861a01-85f0-4175-bb03-a9bfe4dbfc2a
X-WR-CALDESC:Join us for breakfast at the Center!
X-WR-RELCALID:e9b3a0496daefa91d71d8e52713439e5
X-WR-TIMEZONE:America/New_York
BEGIN:VTIMEZONE
TZID:America/New_York
BEGIN:STANDARD
TZNAME:EST
DTSTART:20261101T020000
TZOFFSETFROM:-0400
TZOFFSETTO:-0500
RDATE:20271107T020000
END:STANDARD
BEGIN:DAYLIGHT
TZNAME:EDT
DTSTART:20260308T020000
TZOFFSETFROM:-0500
TZOFFSETTO:-0400
RDATE:20270314T020000
RDATE:20280312T020000
END:DAYLIGHT
END:VTIMEZONE
BEGIN:VEVENT
UID:be1639fb-8f81-4370-aa98-88a36a42dfe0
DTSTAMP:20260420T153622Z
DESCRIPTION:Join us for breakfast at the Center!
DTSTART;TZID=America/New_York:20261106T090000
DTEND;TZID=America/New_York:20261106T100000
LOCATION:
SUMMARY:Breakfast Club (In Center)
END:VEVENT
END:VCALENDAR
