BEGIN:VCALENDAR
VERSION:2.0
PRODID:-//rssny.org//NONSGML kigkonsult.se iCalcreator 2.30.10//
CALSCALE:GREGORIAN
METHOD:PUBLISH
UID:bd55c4e5-bba8-4012-9ffc-3225effe652f
X-WR-CALDESC:Join us for breakfast at the Center!
X-WR-RELCALID:a7c5082edcf9f163fb2ae448acdf26cc
X-WR-TIMEZONE:America/New_York
BEGIN:VTIMEZONE
TZID:America/New_York
BEGIN:STANDARD
TZNAME:EST
DTSTART:20261101T020000
TZOFFSETFROM:-0400
TZOFFSETTO:-0500
RDATE:20271107T020000
END:STANDARD
BEGIN:DAYLIGHT
TZNAME:EDT
DTSTART:20260308T020000
TZOFFSETFROM:-0500
TZOFFSETTO:-0400
RDATE:20270314T020000
RDATE:20280312T020000
END:DAYLIGHT
END:VTIMEZONE
BEGIN:VEVENT
UID:81f9bf28-094e-48d3-889e-d6c81142bc6e
DTSTAMP:20260420T153709Z
DESCRIPTION:Join us for breakfast at the Center!
DTSTART;TZID=America/New_York:20261104T090000
DTEND;TZID=America/New_York:20261104T100000
LOCATION:
SUMMARY:Breakfast Club (In Center)
END:VEVENT
END:VCALENDAR
