BEGIN:VCALENDAR
VERSION:2.0
PRODID:-//rssny.org//NONSGML kigkonsult.se iCalcreator 2.30.10//
CALSCALE:GREGORIAN
METHOD:PUBLISH
UID:e674df76-feea-4c69-905f-4605106ae3b4
X-WR-CALDESC:Join us for breakfast at the Center!
X-WR-RELCALID:fbf2151d8d748fd747d70bccddb52236
X-WR-TIMEZONE:America/New_York
BEGIN:VTIMEZONE
TZID:America/New_York
BEGIN:STANDARD
TZNAME:EST
DTSTART:20251102T020000
TZOFFSETFROM:-0400
TZOFFSETTO:-0500
RDATE:20261101T020000
RDATE:20271107T020000
END:STANDARD
BEGIN:DAYLIGHT
TZNAME:EDT
DTSTART:20260308T020000
TZOFFSETFROM:-0500
TZOFFSETTO:-0400
RDATE:20270314T020000
RDATE:20280312T020000
END:DAYLIGHT
END:VTIMEZONE
BEGIN:VEVENT
UID:f689f890-b699-46c6-8b9c-ef69cf155bf9
DTSTAMP:20260420T153650Z
DESCRIPTION:Join us for breakfast at the Center!
DTSTART;TZID=America/New_York:20261102T090000
DTEND;TZID=America/New_York:20261102T100000
LOCATION:
SUMMARY:Breakfast Club (In Center)
END:VEVENT
END:VCALENDAR
