BEGIN:VCALENDAR
VERSION:2.0
PRODID:-//rssny.org//NONSGML kigkonsult.se iCalcreator 2.30.10//
CALSCALE:GREGORIAN
METHOD:PUBLISH
UID:d65ad250-53d1-43a2-a97a-87f2d8e84809
X-WR-CALDESC:Join us for breakfast at the Center!
X-WR-RELCALID:ea00b54ebb44e6df400ec2681717898e
X-WR-TIMEZONE:America/New_York
BEGIN:VTIMEZONE
TZID:America/New_York
BEGIN:STANDARD
TZNAME:EST
DTSTART:20251102T020000
TZOFFSETFROM:-0400
TZOFFSETTO:-0500
RDATE:20261101T020000
RDATE:20271107T020000
END:STANDARD
BEGIN:DAYLIGHT
TZNAME:EDT
DTSTART:20260308T020000
TZOFFSETFROM:-0500
TZOFFSETTO:-0400
RDATE:20270314T020000
RDATE:20280312T020000
END:DAYLIGHT
END:VTIMEZONE
BEGIN:VEVENT
UID:5ac377c5-f7ad-46b8-b922-81f334ebbe15
DTSTAMP:20260420T140120Z
DESCRIPTION:Join us for breakfast at the Center!
DTSTART;TZID=America/New_York:20261028T090000
DTEND;TZID=America/New_York:20261028T100000
LOCATION:
SUMMARY:Breakfast Club (In Center)
END:VEVENT
END:VCALENDAR
