BEGIN:VCALENDAR
VERSION:2.0
PRODID:-//rssny.org//NONSGML kigkonsult.se iCalcreator 2.30.10//
CALSCALE:GREGORIAN
METHOD:PUBLISH
UID:efc41938-b3cf-46be-8b06-8ae50c6e86d9
X-WR-CALDESC:Join us for breakfast at the Center!
X-WR-RELCALID:945f4abc835f2953bc4325470d4e5e5c
X-WR-TIMEZONE:America/New_York
BEGIN:VTIMEZONE
TZID:America/New_York
BEGIN:STANDARD
TZNAME:EST
DTSTART:20251102T020000
TZOFFSETFROM:-0400
TZOFFSETTO:-0500
RDATE:20261101T020000
RDATE:20271107T020000
END:STANDARD
BEGIN:DAYLIGHT
TZNAME:EDT
DTSTART:20260308T020000
TZOFFSETFROM:-0500
TZOFFSETTO:-0400
RDATE:20270314T020000
RDATE:20280312T020000
END:DAYLIGHT
END:VTIMEZONE
BEGIN:VEVENT
UID:d9c76ec6-b304-4599-9635-3f95ee13ea26
DTSTAMP:20260420T140145Z
DESCRIPTION:Join us for breakfast at the Center!
DTSTART;TZID=America/New_York:20261014T090000
DTEND;TZID=America/New_York:20261014T100000
LOCATION:
SUMMARY:Breakfast Club (In Center)
END:VEVENT
END:VCALENDAR
