BEGIN:VCALENDAR
VERSION:2.0
PRODID:-//rssny.org//NONSGML kigkonsult.se iCalcreator 2.30.10//
CALSCALE:GREGORIAN
METHOD:PUBLISH
UID:cf758b21-86a4-4b1b-bc8d-0af3258de7aa
X-WR-CALDESC:Join us for breakfast at the Center!
X-WR-RELCALID:6f77e87c457ce8838610390ecc9c7473
X-WR-TIMEZONE:America/New_York
BEGIN:VTIMEZONE
TZID:America/New_York
BEGIN:STANDARD
TZNAME:EST
DTSTART:20251102T020000
TZOFFSETFROM:-0400
TZOFFSETTO:-0500
RDATE:20261101T020000
RDATE:20271107T020000
END:STANDARD
BEGIN:DAYLIGHT
TZNAME:EDT
DTSTART:20260308T020000
TZOFFSETFROM:-0500
TZOFFSETTO:-0400
RDATE:20270314T020000
RDATE:20280312T020000
END:DAYLIGHT
END:VTIMEZONE
BEGIN:VEVENT
UID:42b94c88-2996-4f28-b397-47996fb01f0b
DTSTAMP:20260420T140117Z
DESCRIPTION:Join us for breakfast at the Center!
DTSTART;TZID=America/New_York:20261005T090000
DTEND;TZID=America/New_York:20261005T100000
LOCATION:
SUMMARY:Breakfast Club (In Center)
END:VEVENT
END:VCALENDAR
