BEGIN:VCALENDAR
VERSION:2.0
PRODID:-//rssny.org//NONSGML kigkonsult.se iCalcreator 2.30.10//
CALSCALE:GREGORIAN
METHOD:PUBLISH
UID:341dcf46-6372-443d-9c60-c21d3474a5f2
X-WR-CALDESC:Giuseppe Verdi\, opera La Traviata\n
X-WR-RELCALID:2702cba01e1b89e24c7e4435d60fc2b8
X-WR-TIMEZONE:America/New_York
BEGIN:VTIMEZONE
TZID:America/New_York
BEGIN:STANDARD
TZNAME:EST
DTSTART:20251102T020000
TZOFFSETFROM:-0400
TZOFFSETTO:-0500
RDATE:20261101T020000
RDATE:20271107T020000
END:STANDARD
BEGIN:DAYLIGHT
TZNAME:EDT
DTSTART:20260308T020000
TZOFFSETFROM:-0500
TZOFFSETTO:-0400
RDATE:20270314T020000
RDATE:20280312T020000
END:DAYLIGHT
END:VTIMEZONE
BEGIN:VEVENT
UID:df39fc36-a937-48f9-942a-61dea73811a2
DTSTAMP:20260420T140654Z
DESCRIPTION:Giuseppe Verdi\, opera La Traviata\n
DTSTART;TZID=America/New_York:20261004T160000
DTEND;TZID=America/New_York:20261004T171500
LOCATION:https://rssny.org/music_appreciation.html
SUMMARY:Music Appreciation with Diana: Giuseppe Verdi\, opera La Traviata (
 Online)
END:VEVENT
END:VCALENDAR
