BEGIN:VCALENDAR
VERSION:2.0
PRODID:-//rssny.org//NONSGML kigkonsult.se iCalcreator 2.30.10//
CALSCALE:GREGORIAN
METHOD:PUBLISH
UID:863d7022-19e7-41ff-9a59-839a10d9c878
X-WR-CALDESC:Join us for breakfast at the Center!
X-WR-RELCALID:4dcac08f46b049aa5ad1b58539bcd3f4
X-WR-TIMEZONE:America/New_York
BEGIN:VTIMEZONE
TZID:America/New_York
BEGIN:STANDARD
TZNAME:EST
DTSTART:20251102T020000
TZOFFSETFROM:-0400
TZOFFSETTO:-0500
RDATE:20261101T020000
RDATE:20271107T020000
END:STANDARD
BEGIN:DAYLIGHT
TZNAME:EDT
DTSTART:20260308T020000
TZOFFSETFROM:-0500
TZOFFSETTO:-0400
RDATE:20270314T020000
RDATE:20280312T020000
END:DAYLIGHT
END:VTIMEZONE
BEGIN:VEVENT
UID:7f68e6ce-837d-4838-8acd-4a9c315ad28f
DTSTAMP:20260420T122331Z
DESCRIPTION:Join us for breakfast at the Center!
DTSTART;TZID=America/New_York:20260930T090000
DTEND;TZID=America/New_York:20260930T100000
LOCATION:
SUMMARY:Breakfast Club (In Center)
END:VEVENT
END:VCALENDAR
