BEGIN:VCALENDAR
VERSION:2.0
PRODID:-//rssny.org//NONSGML kigkonsult.se iCalcreator 2.30.10//
CALSCALE:GREGORIAN
METHOD:PUBLISH
UID:ac76461b-9c5e-449d-a323-65930a014867
X-WR-CALDESC:Join us for breakfast at the Center!
X-WR-RELCALID:ade376b19504df91d75791e3f6799f3e
X-WR-TIMEZONE:America/New_York
BEGIN:VTIMEZONE
TZID:America/New_York
BEGIN:STANDARD
TZNAME:EST
DTSTART:20251102T020000
TZOFFSETFROM:-0400
TZOFFSETTO:-0500
RDATE:20261101T020000
RDATE:20271107T020000
END:STANDARD
BEGIN:DAYLIGHT
TZNAME:EDT
DTSTART:20260308T020000
TZOFFSETFROM:-0500
TZOFFSETTO:-0400
RDATE:20270314T020000
RDATE:20280312T020000
END:DAYLIGHT
END:VTIMEZONE
BEGIN:VEVENT
UID:fe4fa93c-cd98-4b78-961f-bb67e85b02e9
DTSTAMP:20260420T123258Z
DESCRIPTION:Join us for breakfast at the Center!
DTSTART;TZID=America/New_York:20260923T090000
DTEND;TZID=America/New_York:20260923T100000
LOCATION:
SUMMARY:Breakfast Club (In Center)
END:VEVENT
END:VCALENDAR
