BEGIN:VCALENDAR
VERSION:2.0
PRODID:-//rssny.org//NONSGML kigkonsult.se iCalcreator 2.30.10//
CALSCALE:GREGORIAN
METHOD:PUBLISH
UID:2886f95e-6e1f-4ea1-b415-658129db30d7
X-WR-CALDESC:Join us for breakfast at the Center!
X-WR-RELCALID:d23598c75ee6c2758beab7682f05866e
X-WR-TIMEZONE:America/New_York
BEGIN:VTIMEZONE
TZID:America/New_York
BEGIN:STANDARD
TZNAME:EST
DTSTART:20251102T020000
TZOFFSETFROM:-0400
TZOFFSETTO:-0500
RDATE:20261101T020000
RDATE:20271107T020000
END:STANDARD
BEGIN:DAYLIGHT
TZNAME:EDT
DTSTART:20260308T020000
TZOFFSETFROM:-0500
TZOFFSETTO:-0400
RDATE:20270314T020000
RDATE:20280312T020000
END:DAYLIGHT
END:VTIMEZONE
BEGIN:VEVENT
UID:4c3c1db3-3cf8-4328-8665-964b78c926dc
DTSTAMP:20260420T122418Z
DESCRIPTION:Join us for breakfast at the Center!
DTSTART;TZID=America/New_York:20260916T090000
DTEND;TZID=America/New_York:20260916T100000
LOCATION:
SUMMARY:Breakfast Club (In Center)
END:VEVENT
END:VCALENDAR
