BEGIN:VCALENDAR
VERSION:2.0
PRODID:-//rssny.org//NONSGML kigkonsult.se iCalcreator 2.30.10//
CALSCALE:GREGORIAN
METHOD:PUBLISH
UID:31d4248e-234a-430d-9377-37adbdb7aa40
X-WR-CALDESC:Antonín Dvořák\, Czech composer\n
X-WR-RELCALID:0749df35d29e92dbe21813a88cb60e7f
X-WR-TIMEZONE:America/New_York
BEGIN:VTIMEZONE
TZID:America/New_York
BEGIN:STANDARD
TZNAME:EST
DTSTART:20251102T020000
TZOFFSETFROM:-0400
TZOFFSETTO:-0500
RDATE:20261101T020000
RDATE:20271107T020000
END:STANDARD
BEGIN:DAYLIGHT
TZNAME:EDT
DTSTART:20260308T020000
TZOFFSETFROM:-0500
TZOFFSETTO:-0400
RDATE:20270314T020000
END:DAYLIGHT
END:VTIMEZONE
BEGIN:VEVENT
UID:aefcd0b5-46a1-4349-8510-2bf4bffccd38
DTSTAMP:20260420T123845Z
DESCRIPTION:Antonín Dvořák\, Czech composer\n
DTSTART;TZID=America/New_York:20260906T160000
DTEND;TZID=America/New_York:20260906T171500
LOCATION:https://rssny.org/music_appreciation.html
SUMMARY:Music Appreciation with Diana: Antonín Dvořák\, Czech composer (Onl
 ine)
END:VEVENT
END:VCALENDAR
