BEGIN:VCALENDAR
VERSION:2.0
PRODID:-//rssny.org//NONSGML kigkonsult.se iCalcreator 2.30.10//
CALSCALE:GREGORIAN
METHOD:PUBLISH
UID:5ce2bcf8-e1a9-43fc-87b0-98089c673edd
X-WR-CALDESC:Join us for breakfast at the Center!
X-WR-RELCALID:3d9587cdaac7d57089d2ec4da7550a03
X-WR-TIMEZONE:America/New_York
BEGIN:VTIMEZONE
TZID:America/New_York
BEGIN:STANDARD
TZNAME:EST
DTSTART:20251102T020000
TZOFFSETFROM:-0400
TZOFFSETTO:-0500
RDATE:20261101T020000
RDATE:20271107T020000
END:STANDARD
BEGIN:DAYLIGHT
TZNAME:EDT
DTSTART:20260308T020000
TZOFFSETFROM:-0500
TZOFFSETTO:-0400
RDATE:20270314T020000
END:DAYLIGHT
END:VTIMEZONE
BEGIN:VEVENT
UID:23e4c21b-2ae7-49d3-ae90-f8a3f319640a
DTSTAMP:20260422T103023Z
DESCRIPTION:Join us for breakfast at the Center!
DTSTART;TZID=America/New_York:20260828T090000
DTEND;TZID=America/New_York:20260828T100000
LOCATION:
SUMMARY:Breakfast Club (In Center)
END:VEVENT
END:VCALENDAR
