BEGIN:VCALENDAR
VERSION:2.0
PRODID:-//rssny.org//NONSGML kigkonsult.se iCalcreator 2.30.10//
CALSCALE:GREGORIAN
METHOD:PUBLISH
UID:9bd8b2a4-3590-430e-bb36-465b4b42ef70
X-WR-CALDESC:Join us for breakfast at the Center!
X-WR-RELCALID:136a17fec06881cc320644135b4d6117
X-WR-TIMEZONE:America/New_York
BEGIN:VTIMEZONE
TZID:America/New_York
BEGIN:STANDARD
TZNAME:EST
DTSTART:20251102T020000
TZOFFSETFROM:-0400
TZOFFSETTO:-0500
RDATE:20261101T020000
RDATE:20271107T020000
END:STANDARD
BEGIN:DAYLIGHT
TZNAME:EDT
DTSTART:20260308T020000
TZOFFSETFROM:-0500
TZOFFSETTO:-0400
RDATE:20270314T020000
END:DAYLIGHT
END:VTIMEZONE
BEGIN:VEVENT
UID:0afc845f-4ac1-48dc-ab89-c8faad9dd008
DTSTAMP:20260422T090638Z
DESCRIPTION:Join us for breakfast at the Center!
DTSTART;TZID=America/New_York:20260710T090000
DTEND;TZID=America/New_York:20260710T100000
LOCATION:
SUMMARY:Breakfast Club (In Center)
END:VEVENT
END:VCALENDAR
