BEGIN:VCALENDAR
VERSION:2.0
PRODID:-//rssny.org//NONSGML kigkonsult.se iCalcreator 2.30.10//
CALSCALE:GREGORIAN
METHOD:PUBLISH
UID:b46135b0-18b9-4281-a331-7ba7d7794b65
X-WR-CALDESC:\n
X-WR-RELCALID:b85dcc8e38fde5fd31e17e3523b5c13b
X-WR-TIMEZONE:America/New_York
BEGIN:VTIMEZONE
TZID:America/New_York
BEGIN:STANDARD
TZNAME:EST
DTSTART:20251102T020000
TZOFFSETFROM:-0400
TZOFFSETTO:-0500
RDATE:20261101T020000
RDATE:20271107T020000
END:STANDARD
BEGIN:DAYLIGHT
TZNAME:EDT
DTSTART:20260308T020000
TZOFFSETFROM:-0500
TZOFFSETTO:-0400
RDATE:20270314T020000
END:DAYLIGHT
END:VTIMEZONE
BEGIN:VEVENT
UID:0307c77d-6eb1-4989-8779-1a31d024f8c0
DTSTAMP:20260420T112237Z
DESCRIPTION:\n
DTSTART;TZID=America/New_York:20260705T160000
DTEND;TZID=America/New_York:20260705T171500
LOCATION:https://rssny.org/music_appreciation.html
SUMMARY:Music Appreciation with Diana: Mario Del Monaco\, Italian operatic 
 tenor (Online)
END:VEVENT
END:VCALENDAR
