BEGIN:VCALENDAR
VERSION:2.0
PRODID:-//rssny.org//NONSGML kigkonsult.se iCalcreator 2.30.10//
CALSCALE:GREGORIAN
METHOD:PUBLISH
UID:9b03c3c6-031d-4a4a-aa44-09c57a04b4a6
X-WR-CALDESC:Join us for breakfast at the Center!
X-WR-RELCALID:14801bcb5ccf190d427ed1dca6fff15b
X-WR-TIMEZONE:America/New_York
BEGIN:VTIMEZONE
TZID:America/New_York
BEGIN:STANDARD
TZNAME:EST
DTSTART:20251102T020000
TZOFFSETFROM:-0400
TZOFFSETTO:-0500
RDATE:20261101T020000
RDATE:20271107T020000
END:STANDARD
BEGIN:DAYLIGHT
TZNAME:EDT
DTSTART:20260308T020000
TZOFFSETFROM:-0500
TZOFFSETTO:-0400
RDATE:20270314T020000
END:DAYLIGHT
END:VTIMEZONE
BEGIN:VEVENT
UID:4d22cfae-2904-4b36-820a-7b325d709d66
DTSTAMP:20260420T073700Z
DESCRIPTION:Join us for breakfast at the Center!
DTSTART;TZID=America/New_York:20260629T090000
DTEND;TZID=America/New_York:20260629T100000
LOCATION:
SUMMARY:Breakfast Club (In Center)
END:VEVENT
END:VCALENDAR
