BEGIN:VCALENDAR
VERSION:2.0
PRODID:-//rssny.org//NONSGML kigkonsult.se iCalcreator 2.30.10//
CALSCALE:GREGORIAN
METHOD:PUBLISH
UID:51c746fd-560e-4f04-9047-a96d7f1a7562
X-WR-CALDESC:Join us for breakfast at the Center!
X-WR-RELCALID:1a49354d76bd5a0c33c04b5392e66d24
X-WR-TIMEZONE:America/New_York
BEGIN:VTIMEZONE
TZID:America/New_York
BEGIN:STANDARD
TZNAME:EST
DTSTART:20251102T020000
TZOFFSETFROM:-0400
TZOFFSETTO:-0500
RDATE:20261101T020000
RDATE:20271107T020000
END:STANDARD
BEGIN:DAYLIGHT
TZNAME:EDT
DTSTART:20260308T020000
TZOFFSETFROM:-0500
TZOFFSETTO:-0400
RDATE:20270314T020000
END:DAYLIGHT
END:VTIMEZONE
BEGIN:VEVENT
UID:aeb109cf-f34b-4491-a52e-cfe9f1ab3c2d
DTSTAMP:20260420T073650Z
DESCRIPTION:Join us for breakfast at the Center!
DTSTART;TZID=America/New_York:20260626T090000
DTEND;TZID=America/New_York:20260626T100000
LOCATION:
SUMMARY:Breakfast Club (In Center)
END:VEVENT
END:VCALENDAR
