BEGIN:VCALENDAR
VERSION:2.0
PRODID:-//rssny.org//NONSGML kigkonsult.se iCalcreator 2.30.10//
CALSCALE:GREGORIAN
METHOD:PUBLISH
UID:1c8724a8-0aa9-4caf-8bae-b1a13d14699e
X-WR-CALDESC:Join us for breakfast at the Center!
X-WR-RELCALID:0073499fb98e9553e965bb5915f17aaa
X-WR-TIMEZONE:America/New_York
BEGIN:VTIMEZONE
TZID:America/New_York
BEGIN:STANDARD
TZNAME:EST
DTSTART:20251102T020000
TZOFFSETFROM:-0400
TZOFFSETTO:-0500
RDATE:20261101T020000
RDATE:20271107T020000
END:STANDARD
BEGIN:DAYLIGHT
TZNAME:EDT
DTSTART:20260308T020000
TZOFFSETFROM:-0500
TZOFFSETTO:-0400
RDATE:20270314T020000
END:DAYLIGHT
END:VTIMEZONE
BEGIN:VEVENT
UID:99ff3a20-231b-4052-a80a-43d164ae9553
DTSTAMP:20260420T073742Z
DESCRIPTION:Join us for breakfast at the Center!
DTSTART;TZID=America/New_York:20260624T090000
DTEND;TZID=America/New_York:20260624T100000
LOCATION:
SUMMARY:Breakfast Club (In Center)
END:VEVENT
END:VCALENDAR
