BEGIN:VCALENDAR
VERSION:2.0
PRODID:-//rssny.org//NONSGML kigkonsult.se iCalcreator 2.30.10//
CALSCALE:GREGORIAN
METHOD:PUBLISH
UID:7234b1ee-c8c7-43df-a288-a928e20eaef6
X-WR-CALDESC:Join us for breakfast at the Center!
X-WR-RELCALID:2f2179b9284464610d1796b1b7e48484
X-WR-TIMEZONE:America/New_York
BEGIN:VTIMEZONE
TZID:America/New_York
BEGIN:STANDARD
TZNAME:EST
DTSTART:20251102T020000
TZOFFSETFROM:-0400
TZOFFSETTO:-0500
RDATE:20261101T020000
RDATE:20271107T020000
END:STANDARD
BEGIN:DAYLIGHT
TZNAME:EDT
DTSTART:20260308T020000
TZOFFSETFROM:-0500
TZOFFSETTO:-0400
RDATE:20270314T020000
END:DAYLIGHT
END:VTIMEZONE
BEGIN:VEVENT
UID:fe6b6f3a-095e-4709-808e-e4c56fe97322
DTSTAMP:20260420T073741Z
DESCRIPTION:Join us for breakfast at the Center!
DTSTART;TZID=America/New_York:20260622T090000
DTEND;TZID=America/New_York:20260622T100000
LOCATION:
SUMMARY:Breakfast Club (In Center)
END:VEVENT
END:VCALENDAR
