BEGIN:VCALENDAR
VERSION:2.0
PRODID:-//rssny.org//NONSGML kigkonsult.se iCalcreator 2.30.10//
CALSCALE:GREGORIAN
METHOD:PUBLISH
UID:578bd390-98b7-41c6-9d05-9d9a8e0c5702
X-WR-CALDESC:Join us for breakfast at the Center!
X-WR-RELCALID:ddd4defa2740076f619e861b2b2ef2da
X-WR-TIMEZONE:America/New_York
BEGIN:VTIMEZONE
TZID:America/New_York
BEGIN:STANDARD
TZNAME:EST
DTSTART:20251102T020000
TZOFFSETFROM:-0400
TZOFFSETTO:-0500
RDATE:20261101T020000
RDATE:20271107T020000
END:STANDARD
BEGIN:DAYLIGHT
TZNAME:EDT
DTSTART:20260308T020000
TZOFFSETFROM:-0500
TZOFFSETTO:-0400
RDATE:20270314T020000
END:DAYLIGHT
END:VTIMEZONE
BEGIN:VEVENT
UID:10fd8d19-980c-481d-a0da-8bbba466db8f
DTSTAMP:20260420T073621Z
DESCRIPTION:Join us for breakfast at the Center!
DTSTART;TZID=America/New_York:20260617T090000
DTEND;TZID=America/New_York:20260617T100000
LOCATION:
SUMMARY:Breakfast Club (In Center)
END:VEVENT
END:VCALENDAR
