BEGIN:VCALENDAR
VERSION:2.0
PRODID:-//rssny.org//NONSGML kigkonsult.se iCalcreator 2.30.10//
CALSCALE:GREGORIAN
METHOD:PUBLISH
UID:4b724ea2-d6f5-4e63-a76a-38cef918b6c8
X-WR-CALDESC:Fire safety education has a profound impact on communities by 
 reducing the risk of fire-related incidents and fatalities\, where the num
 ber of fire-related deaths has dropped over the last few decades\, and we 
 want to continue this progress. Join NYC Aging and the New York City Fire 
 Department for a safety presentation to learn how to keep yourself safe fr
 om fire and schedule a free state-of-the-art smoke and carbon monoxide det
 ector installed in your home.\n\nTopics covered in the presentation includ
 e\, but are not limited to:\n\n-Fire facts/statistics\n-Common causes of f
 ires (e.g.\, cooking\, e-bikes\, electrical\, candles\, smoking\, heaters\
 , etc.)\n-Proper usage of lithium batteries\n-Smoke and combination alarms
 \n-Knowing the type of building you live in\n-Escape plans\, based on the 
 type of building they live in\n-Closing doors if there is a fire\n-Importa
 nce of obtaining a fire extinguisher in your home\n-Overloading power stri
 ps\n
X-WR-RELCALID:61b9f2b948ae29f7c2c984e8b2754b49
X-WR-TIMEZONE:America/New_York
BEGIN:VTIMEZONE
TZID:America/New_York
BEGIN:STANDARD
TZNAME:EST
DTSTART:20251102T020000
TZOFFSETFROM:-0400
TZOFFSETTO:-0500
RDATE:20261101T020000
RDATE:20271107T020000
END:STANDARD
BEGIN:DAYLIGHT
TZNAME:EDT
DTSTART:20260308T020000
TZOFFSETFROM:-0500
TZOFFSETTO:-0400
RDATE:20270314T020000
END:DAYLIGHT
END:VTIMEZONE
BEGIN:VEVENT
UID:af0288c2-ff11-4f3f-859d-3b6ea20b78de
DTSTAMP:20260420T073444Z
DESCRIPTION:Fire safety education has a profound impact on communities by r
 educing the risk of fire-related incidents and fatalities\, where the numb
 er of fire-related deaths has dropped over the last few decades\, and we w
 ant to continue this progress. Join NYC Aging and the New York City Fire D
 epartment for a safety presentation to learn how to keep yourself safe fro
 m fire and schedule a free state-of-the-art smoke and carbon monoxide dete
 ctor installed in your home.\n\nTopics covered in the presentation include
 \, but are not limited to:\n\n-Fire facts/statistics\n-Common causes of fi
 res (e.g.\, cooking\, e-bikes\, electrical\, candles\, smoking\, heaters\,
  etc.)\n-Proper usage of lithium batteries\n-Smoke and combination alarms
 \n-Knowing the type of building you live in\n-Escape plans\, based on the 
 type of building they live in\n-Closing doors if there is a fire\n-Importa
 nce of obtaining a fire extinguisher in your home\n-Overloading power stri
 ps\n
DTSTART;TZID=America/New_York:20260612T131500
DTEND;TZID=America/New_York:20260612T141500
LOCATION:
SUMMARY:Fire Safety Presentation (In Person)
END:VEVENT
END:VCALENDAR
