BEGIN:VCALENDAR
VERSION:2.0
PRODID:-//rssny.org//NONSGML kigkonsult.se iCalcreator 2.30.10//
CALSCALE:GREGORIAN
METHOD:PUBLISH
UID:44b80da5-672e-4875-bf8c-0485b7e88bdd
X-WR-CALDESC:Join us for breakfast at the Center!
X-WR-RELCALID:8fd6bf7d76bdaeb2ebcb81c8740e3b83
X-WR-TIMEZONE:America/New_York
BEGIN:VTIMEZONE
TZID:America/New_York
BEGIN:STANDARD
TZNAME:EST
DTSTART:20251102T020000
TZOFFSETFROM:-0400
TZOFFSETTO:-0500
RDATE:20261101T020000
RDATE:20271107T020000
END:STANDARD
BEGIN:DAYLIGHT
TZNAME:EDT
DTSTART:20260308T020000
TZOFFSETFROM:-0500
TZOFFSETTO:-0400
RDATE:20270314T020000
END:DAYLIGHT
END:VTIMEZONE
BEGIN:VEVENT
UID:ac775c68-6ffb-4cf9-a101-5d5b520b0dfa
DTSTAMP:20260420T073638Z
DESCRIPTION:Join us for breakfast at the Center!
DTSTART;TZID=America/New_York:20260612T090000
DTEND;TZID=America/New_York:20260612T100000
LOCATION:
SUMMARY:Breakfast Club (In Center)
END:VEVENT
END:VCALENDAR
