BEGIN:VCALENDAR
VERSION:2.0
PRODID:-//rssny.org//NONSGML kigkonsult.se iCalcreator 2.30.10//
CALSCALE:GREGORIAN
METHOD:PUBLISH
UID:e3c54c81-0d90-43fd-8105-46647b359e0c
X-WR-CALDESC:TO REGISTER: https://rssny.org/trivia.html   Register ONE TIME
  ONLY\n\n\nCome and enjoy trivia and brain games with Maritza.\n\nNOTES:\n
 *  This class is weekly. We will let you know if it is not happening.\n* Y
 ou only need to register ONCE for this class. You will be sent links weekl
 y.\n*  You MUST register for the class. Please do not forward the link.
X-WR-RELCALID:1d85cf65b187673c4d5c6b72d3111afb
X-WR-TIMEZONE:America/New_York
BEGIN:VTIMEZONE
TZID:America/New_York
BEGIN:STANDARD
TZNAME:EST
DTSTART:20251102T020000
TZOFFSETFROM:-0400
TZOFFSETTO:-0500
RDATE:20261101T020000
RDATE:20271107T020000
END:STANDARD
BEGIN:DAYLIGHT
TZNAME:EDT
DTSTART:20260308T020000
TZOFFSETFROM:-0500
TZOFFSETTO:-0400
RDATE:20270314T020000
END:DAYLIGHT
END:VTIMEZONE
BEGIN:VEVENT
UID:1d0c9fcb-ed32-4bc2-90d0-e0d5f2c4af79
DTSTAMP:20260420T074334Z
DESCRIPTION:TO REGISTER: https://rssny.org/trivia.html   Register ONE TIME 
 ONLY\n\n\nCome and enjoy trivia and brain games with Maritza.\n\nNOTES:\n*
   This class is weekly. We will let you know if it is not happening.\n* Yo
 u only need to register ONCE for this class. You will be sent links weekly
 .\n*  You MUST register for the class. Please do not forward the link.
DTSTART;TZID=America/New_York:20260609T110000
DTEND;TZID=America/New_York:20260609T120000
LOCATION:https://rssny.org/trivia.html
SUMMARY:Brain Boosters with Maritza (HYBRID) - Instructor in Center
END:VEVENT
END:VCALENDAR
