BEGIN:VCALENDAR
VERSION:2.0
PRODID:-//rssny.org//NONSGML kigkonsult.se iCalcreator 2.30.10//
CALSCALE:GREGORIAN
METHOD:PUBLISH
UID:ef2a54d4-8ec2-4e68-b1df-0e648fde6960
X-WR-CALDESC:Andrea Bocelli\, an Italian tenor\nhttps://en.wikipedia.org/wi
 ki/Andrea_Bocelli
X-WR-RELCALID:43931813665b532a99f718b07e6fb346
X-WR-TIMEZONE:America/New_York
BEGIN:VTIMEZONE
TZID:America/New_York
BEGIN:STANDARD
TZNAME:EST
DTSTART:20251102T020000
TZOFFSETFROM:-0400
TZOFFSETTO:-0500
RDATE:20261101T020000
RDATE:20271107T020000
END:STANDARD
BEGIN:DAYLIGHT
TZNAME:EDT
DTSTART:20260308T020000
TZOFFSETFROM:-0500
TZOFFSETTO:-0400
RDATE:20270314T020000
END:DAYLIGHT
END:VTIMEZONE
BEGIN:VEVENT
UID:99a6ca11-8bc1-4f37-9131-6317478a3ae0
DTSTAMP:20260420T075240Z
DESCRIPTION:Andrea Bocelli\, an Italian tenor\nhttps://en.wikipedia.org/wik
 i/Andrea_Bocelli
DTSTART;TZID=America/New_York:20260607T160000
DTEND;TZID=America/New_York:20260607T171500
LOCATION:https://rssny.org/music_appreciation.html
SUMMARY:Music Appreciation with Diana: Andrea Bocelli (Online)
END:VEVENT
END:VCALENDAR
