BEGIN:VCALENDAR
VERSION:2.0
PRODID:-//rssny.org//NONSGML kigkonsult.se iCalcreator 2.30.10//
CALSCALE:GREGORIAN
METHOD:PUBLISH
UID:5428f73b-9c1e-4824-82ab-ca399f83c8be
X-WR-CALDESC:Please fill out this form:\n\nhttps://rssny.org/class-forms/te
 chnology-training.html
X-WR-RELCALID:d0bf55f62b20c8b8533434b8b80c219b
X-WR-TIMEZONE:America/New_York
BEGIN:VTIMEZONE
TZID:America/New_York
BEGIN:STANDARD
TZNAME:EST
DTSTART:20251102T020000
TZOFFSETFROM:-0400
TZOFFSETTO:-0500
RDATE:20261101T020000
RDATE:20271107T020000
END:STANDARD
BEGIN:DAYLIGHT
TZNAME:EDT
DTSTART:20260308T020000
TZOFFSETFROM:-0500
TZOFFSETTO:-0400
RDATE:20270314T020000
END:DAYLIGHT
END:VTIMEZONE
BEGIN:VEVENT
UID:86da78a2-24fa-4945-bc7b-9057039c5f85
DTSTAMP:20260420T073940Z
DESCRIPTION:Please fill out this form:\n\nhttps://rssny.org/class-forms/tec
 hnology-training.html
DTSTART;TZID=America/New_York:20260602T110000
DTEND;TZID=America/New_York:20260602T120000
LOCATION:https://rssny.org/class-forms/technology-training.html
SUMMARY:Technology Group Training with Caroline: (Online)
END:VEVENT
END:VCALENDAR
