BEGIN:VCALENDAR
VERSION:2.0
PRODID:-//rssny.org//NONSGML kigkonsult.se iCalcreator 2.30.10//
CALSCALE:GREGORIAN
METHOD:PUBLISH
UID:2df95c3f-5a81-4d60-9d33-82cab47f992c
X-WR-CALDESC:Join us for breakfast at the Center!
X-WR-RELCALID:658ef63f8628ad9b3f8f5c163d4f5da3
X-WR-TIMEZONE:America/New_York
BEGIN:VTIMEZONE
TZID:America/New_York
BEGIN:STANDARD
TZNAME:EST
DTSTART:20251102T020000
TZOFFSETFROM:-0400
TZOFFSETTO:-0500
RDATE:20261101T020000
RDATE:20271107T020000
END:STANDARD
BEGIN:DAYLIGHT
TZNAME:EDT
DTSTART:20260308T020000
TZOFFSETFROM:-0500
TZOFFSETTO:-0400
RDATE:20270314T020000
END:DAYLIGHT
END:VTIMEZONE
BEGIN:VEVENT
UID:ceeee0c7-7037-4814-a01c-15b31b256167
DTSTAMP:20260420T073621Z
DESCRIPTION:Join us for breakfast at the Center!
DTSTART;TZID=America/New_York:20260601T090000
DTEND;TZID=America/New_York:20260601T100000
LOCATION:
SUMMARY:Breakfast Club (In Center)
END:VEVENT
END:VCALENDAR
