BEGIN:VCALENDAR
VERSION:2.0
PRODID:-//rssny.org//NONSGML kigkonsult.se iCalcreator 2.30.10//
CALSCALE:GREGORIAN
METHOD:PUBLISH
UID:eb90b265-f6a4-40fa-961d-d2682ecedd7e
X-WR-CALDESC:
X-WR-RELCALID:22fa0e6238c862a65c7efb9f604e3d39
X-WR-TIMEZONE:America/New_York
BEGIN:VTIMEZONE
TZID:America/New_York
BEGIN:STANDARD
TZNAME:EST
DTSTART:20251102T020000
TZOFFSETFROM:-0400
TZOFFSETTO:-0500
RDATE:20261101T020000
RDATE:20271107T020000
END:STANDARD
BEGIN:DAYLIGHT
TZNAME:EDT
DTSTART:20260308T020000
TZOFFSETFROM:-0500
TZOFFSETTO:-0400
RDATE:20270314T020000
END:DAYLIGHT
END:VTIMEZONE
BEGIN:VEVENT
UID:25f6dc53-0578-4f1e-b308-062417ccfc79
DTSTAMP:20260420T063315Z
DESCRIPTION:
DTSTART;TZID=America/New_York:20260519T130000
DTEND;TZID=America/New_York:20260519T140000
LOCATION:
SUMMARY:Advisory Council Meeting (In Person - Council members only)
END:VEVENT
END:VCALENDAR
