BEGIN:VCALENDAR
VERSION:2.0
PRODID:-//rssny.org//NONSGML kigkonsult.se iCalcreator 2.30.10//
CALSCALE:GREGORIAN
METHOD:PUBLISH
UID:13cd3c0e-14ca-4e51-83ff-6e10ae24a734
X-WR-CALDESC:Weekly non-competitive bridge game
X-WR-RELCALID:5ec58f1826c9b4e2414d6d6c95eacccf
X-WR-TIMEZONE:America/New_York
BEGIN:VTIMEZONE
TZID:America/New_York
BEGIN:STANDARD
TZNAME:EST
DTSTART:20251102T020000
TZOFFSETFROM:-0400
TZOFFSETTO:-0500
RDATE:20261101T020000
RDATE:20271107T020000
END:STANDARD
BEGIN:DAYLIGHT
TZNAME:EDT
DTSTART:20260308T020000
TZOFFSETFROM:-0500
TZOFFSETTO:-0400
RDATE:20270314T020000
END:DAYLIGHT
END:VTIMEZONE
BEGIN:VEVENT
UID:53a6d994-aabc-4a8b-a56e-ffee0986269a
DTSTAMP:20260420T062410Z
DESCRIPTION:Weekly non-competitive bridge game
DTSTART;TZID=America/New_York:20260515T131500
DTEND;TZID=America/New_York:20260515T163000
LOCATION:
SUMMARY:Leisure Games Bridge (In Center)
END:VEVENT
END:VCALENDAR
