BEGIN:VCALENDAR
VERSION:2.0
PRODID:-//rssny.org//NONSGML kigkonsult.se iCalcreator 2.30.10//
CALSCALE:GREGORIAN
METHOD:PUBLISH
UID:46c3d99f-aac9-4dab-87d6-578e5ad1382f
X-WR-CALDESC:
X-WR-RELCALID:05bae09a764c7e25c67b1a12b6847488
X-WR-TIMEZONE:America/New_York
BEGIN:VTIMEZONE
TZID:America/New_York
BEGIN:STANDARD
TZNAME:EST
DTSTART:20251102T020000
TZOFFSETFROM:-0400
TZOFFSETTO:-0500
RDATE:20261101T020000
RDATE:20271107T020000
END:STANDARD
BEGIN:DAYLIGHT
TZNAME:EDT
DTSTART:20260308T020000
TZOFFSETFROM:-0500
TZOFFSETTO:-0400
RDATE:20270314T020000
END:DAYLIGHT
END:VTIMEZONE
BEGIN:VEVENT
UID:7a1ad28e-808c-4655-be00-0a1be2508aec
DTSTAMP:20260420T061110Z
DESCRIPTION:
DTSTART;TZID=America/New_York:20260514T100000
DTEND;TZID=America/New_York:20260514T110000
LOCATION:
SUMMARY:Photo Voice Breakfast Presentation (In Center)
END:VEVENT
END:VCALENDAR
