BEGIN:VCALENDAR
VERSION:2.0
PRODID:-//rssny.org//NONSGML kigkonsult.se iCalcreator 2.30.10//
CALSCALE:GREGORIAN
METHOD:PUBLISH
UID:07fc50c7-0756-4d9e-84bb-50e8dc3d85d5
X-WR-CALDESC:To register: https://rssny.org/class-forms/health-talks.html\n
 \nJOIN US FOR AN EDUCATIONAL TALK PRESENTED BY:\nGleb Kartsev\, PT\, DPT -
  Riverdale Physical Therapy\n\nWhat you’ll learn:\n-What osteoporosis is a
 nd why it matters\;\n-Simple ways to slow bone loss\;\n-Safe exercises to 
 improve strength and balance\;\n-Fall prevention strategies that actually 
 work\;\n-Daily habits to protect your independence.\n\nBONUS – Free postur
 e and balance tips you can use immediately!
X-WR-RELCALID:01a2da9f6eefd1cf5b6a881a4d2d596f
X-WR-TIMEZONE:America/New_York
BEGIN:VTIMEZONE
TZID:America/New_York
BEGIN:STANDARD
TZNAME:EST
DTSTART:20251102T020000
TZOFFSETFROM:-0400
TZOFFSETTO:-0500
RDATE:20261101T020000
RDATE:20271107T020000
END:STANDARD
BEGIN:DAYLIGHT
TZNAME:EDT
DTSTART:20260308T020000
TZOFFSETFROM:-0500
TZOFFSETTO:-0400
RDATE:20270314T020000
END:DAYLIGHT
END:VTIMEZONE
BEGIN:VEVENT
UID:5396d260-3a7e-444d-a591-7b19d826d659
DTSTAMP:20260420T060124Z
DESCRIPTION:To register: https://rssny.org/class-forms/health-talks.html\n
 \nJOIN US FOR AN EDUCATIONAL TALK PRESENTED BY:\nGleb Kartsev\, PT\, DPT -
  Riverdale Physical Therapy\n\nWhat you’ll learn:\n-What osteoporosis is a
 nd why it matters\;\n-Simple ways to slow bone loss\;\n-Safe exercises to 
 improve strength and balance\;\n-Fall prevention strategies that actually 
 work\;\n-Daily habits to protect your independence.\n\nBONUS – Free postur
 e and balance tips you can use immediately!
DTSTART;TZID=America/New_York:20260512T143000
DTEND;TZID=America/New_York:20260512T153000
LOCATION:https://rssny.org/class-forms/health-talks.html
SUMMARY:STRONG BONES\, SAFE LIVING Preventing and Slowing Osteoporosis in O
 lder Adults with Riverdale Physical Therapy (Hybrid)
END:VEVENT
END:VCALENDAR
