BEGIN:VCALENDAR
VERSION:2.0
PRODID:-//rssny.org//NONSGML kigkonsult.se iCalcreator 2.30.10//
CALSCALE:GREGORIAN
METHOD:PUBLISH
UID:d3f516b7-01e9-4661-9b12-360d6a0ba8d2
X-WR-CALDESC:Join us for breakfast at the Center!
X-WR-RELCALID:0cd49df0abe0da0d06e8624864e2226c
X-WR-TIMEZONE:America/New_York
BEGIN:VTIMEZONE
TZID:America/New_York
BEGIN:STANDARD
TZNAME:EST
DTSTART:20251102T020000
TZOFFSETFROM:-0400
TZOFFSETTO:-0500
RDATE:20261101T020000
RDATE:20271107T020000
END:STANDARD
BEGIN:DAYLIGHT
TZNAME:EDT
DTSTART:20260308T020000
TZOFFSETFROM:-0500
TZOFFSETTO:-0400
RDATE:20270314T020000
END:DAYLIGHT
END:VTIMEZONE
BEGIN:VEVENT
UID:5b7a6a97-17ff-4b4b-b58c-27bac35dd087
DTSTAMP:20260420T060127Z
DESCRIPTION:Join us for breakfast at the Center!
DTSTART;TZID=America/New_York:20260511T090000
DTEND;TZID=America/New_York:20260511T100000
LOCATION:
SUMMARY:Breakfast Club (In Center)
END:VEVENT
END:VCALENDAR
