BEGIN:VCALENDAR
VERSION:2.0
PRODID:-//rssny.org//NONSGML kigkonsult.se iCalcreator 2.30.10//
CALSCALE:GREGORIAN
METHOD:PUBLISH
UID:b8ddfbb9-3565-4cc4-8c0e-9c8977df55e5
X-WR-CALDESC:Weekly non-competitive bridge game
X-WR-RELCALID:8d7fa5071373874a55c369068ae845f3
X-WR-TIMEZONE:America/New_York
BEGIN:VTIMEZONE
TZID:America/New_York
BEGIN:STANDARD
TZNAME:EST
DTSTART:20251102T020000
TZOFFSETFROM:-0400
TZOFFSETTO:-0500
RDATE:20261101T020000
END:STANDARD
BEGIN:DAYLIGHT
TZNAME:EDT
DTSTART:20260308T020000
TZOFFSETFROM:-0500
TZOFFSETTO:-0400
RDATE:20270314T020000
END:DAYLIGHT
END:VTIMEZONE
BEGIN:VEVENT
UID:97108e50-a00c-4c24-bcc3-3f458781b034
DTSTAMP:20260420T062102Z
DESCRIPTION:Weekly non-competitive bridge game
DTSTART;TZID=America/New_York:20260501T131500
DTEND;TZID=America/New_York:20260501T163000
LOCATION:
SUMMARY:Leisure Games Bridge (In Center)
END:VEVENT
END:VCALENDAR
