BEGIN:VCALENDAR
VERSION:2.0
PRODID:-//rssny.org//NONSGML kigkonsult.se iCalcreator 2.30.10//
CALSCALE:GREGORIAN
METHOD:PUBLISH
UID:f8543e48-f780-4d6b-af31-d99cd797fe8c
X-WR-CALDESC:Click Here to Register - https://airtable.com/appXGCAC8Qle5hwr
 m/shrO59MUISZyYYJ7D\n
X-WR-RELCALID:028cf98f35daffe46c1749a5d94cc8ba
X-WR-TIMEZONE:America/New_York
BEGIN:VTIMEZONE
TZID:America/New_York
BEGIN:STANDARD
TZNAME:EST
DTSTART:20251102T020000
TZOFFSETFROM:-0400
TZOFFSETTO:-0500
RDATE:20261101T020000
END:STANDARD
BEGIN:DAYLIGHT
TZNAME:EDT
DTSTART:20260308T020000
TZOFFSETFROM:-0500
TZOFFSETTO:-0400
RDATE:20270314T020000
END:DAYLIGHT
END:VTIMEZONE
BEGIN:VEVENT
UID:c6acf57f-5de3-4cbd-a4ab-4a759a144b3f
DTSTAMP:20260420T043154Z
DESCRIPTION:Click Here to Register - https://airtable.com/appXGCAC8Qle5hwrm
 /shrO59MUISZyYYJ7D\n
DTSTART;TZID=America/New_York:20260430T130000
DTEND;TZID=America/New_York:20260430T140000
LOCATION:https://airtable.com/appXGCAC8Qle5hwrm/shrO59MUISZyYYJ7D
SUMMARY:Concerts in Motion: Coffehouse Thursdays- NOT AN RSS PROGRAM)
END:VEVENT
END:VCALENDAR
