BEGIN:VCALENDAR
VERSION:2.0
PRODID:-//rssny.org//NONSGML kigkonsult.se iCalcreator 2.30.10//
CALSCALE:GREGORIAN
METHOD:PUBLISH
UID:7a66e30c-5cf2-4fa7-ae2c-3fe06946b75c
X-WR-CALDESC:
X-WR-RELCALID:e81980ef43238ef8cdea4bf8b21404ad
X-WR-TIMEZONE:America/New_York
BEGIN:VTIMEZONE
TZID:America/New_York
BEGIN:STANDARD
TZNAME:EST
DTSTART:20251102T020000
TZOFFSETFROM:-0400
TZOFFSETTO:-0500
RDATE:20261101T020000
END:STANDARD
BEGIN:DAYLIGHT
TZNAME:EDT
DTSTART:20260308T020000
TZOFFSETFROM:-0500
TZOFFSETTO:-0400
RDATE:20270314T020000
END:DAYLIGHT
END:VTIMEZONE
BEGIN:VEVENT
UID:3e28dca3-2f01-4647-8aea-d4563ec74550
DTSTAMP:20260420T042854Z
DESCRIPTION:
DTSTART;TZID=America/New_York:20260429T131500
DTEND;TZID=America/New_York:20260429T140000
LOCATION:
SUMMARY:NY Presbyterian nutrition: Reading Nutrition Facts Labels (Hybrid)
END:VEVENT
END:VCALENDAR
