BEGIN:VCALENDAR
VERSION:2.0
PRODID:-//rssny.org//NONSGML kigkonsult.se iCalcreator 2.30.10//
CALSCALE:GREGORIAN
METHOD:PUBLISH
UID:c6642e28-1535-4234-8a50-10171958554f
X-WR-CALDESC:This class is in the center.\n\nLevel: Beginner
X-WR-RELCALID:6dd027023be1aad959c608801858eefb
X-WR-TIMEZONE:America/New_York
BEGIN:VTIMEZONE
TZID:America/New_York
BEGIN:STANDARD
TZNAME:EST
DTSTART:20251102T020000
TZOFFSETFROM:-0400
TZOFFSETTO:-0500
RDATE:20261101T020000
END:STANDARD
BEGIN:DAYLIGHT
TZNAME:EDT
DTSTART:20260308T020000
TZOFFSETFROM:-0500
TZOFFSETTO:-0400
RDATE:20270314T020000
END:DAYLIGHT
END:VTIMEZONE
BEGIN:VEVENT
UID:dd3d7514-f025-44ed-8df5-edfa998baa1c
DTSTAMP:20260420T043754Z
DESCRIPTION:This class is in the center.\n\nLevel: Beginner
DTSTART;TZID=America/New_York:20260421T130000
DTEND;TZID=America/New_York:20260421T140000
LOCATION:
SUMMARY:Technology Group Training with Caroline: Password management (IN CE
 NTER)
END:VEVENT
END:VCALENDAR
