BEGIN:VCALENDAR
VERSION:2.0
PRODID:-//rssny.org//NONSGML kigkonsult.se iCalcreator 2.30.10//
CALSCALE:GREGORIAN
METHOD:PUBLISH
UID:903a579f-ef6f-4525-94c2-3f17c0232857
X-WR-CALDESC:This class is in the center.\n\nLevel: Beginner
X-WR-RELCALID:6c24f474ebdad0d16806d1da4d72ff38
X-WR-TIMEZONE:America/New_York
BEGIN:VTIMEZONE
TZID:America/New_York
BEGIN:STANDARD
TZNAME:EST
DTSTART:20251102T020000
TZOFFSETFROM:-0400
TZOFFSETTO:-0500
RDATE:20261101T020000
END:STANDARD
BEGIN:DAYLIGHT
TZNAME:EDT
DTSTART:20260308T020000
TZOFFSETFROM:-0500
TZOFFSETTO:-0400
RDATE:20270314T020000
END:DAYLIGHT
END:VTIMEZONE
BEGIN:VEVENT
UID:83778547-3a28-4648-a80c-10bdbe07e664
DTSTAMP:20260420T043315Z
DESCRIPTION:This class is in the center.\n\nLevel: Beginner
DTSTART;TZID=America/New_York:20260407T130000
DTEND;TZID=America/New_York:20260407T140000
LOCATION:
SUMMARY:Technology Group Training with Caroline: Translating and keyboards 
 (IN CENTER)
END:VEVENT
END:VCALENDAR
