BEGIN:VCALENDAR
VERSION:2.0
PRODID:-//rssny.org//NONSGML kigkonsult.se iCalcreator 2.30.10//
CALSCALE:GREGORIAN
METHOD:PUBLISH
UID:b842f08f-08eb-4b26-8a54-c3e4e9f64a0d
X-WR-CALDESC:Have fun decorating Easter eggs at RSS.
X-WR-RELCALID:8211f11848f36f81b1f7d47c68d43a0c
X-WR-TIMEZONE:America/New_York
BEGIN:VTIMEZONE
TZID:America/New_York
BEGIN:STANDARD
TZNAME:EST
DTSTART:20251102T020000
TZOFFSETFROM:-0400
TZOFFSETTO:-0500
RDATE:20261101T020000
END:STANDARD
BEGIN:DAYLIGHT
TZNAME:EDT
DTSTART:20260308T020000
TZOFFSETFROM:-0500
TZOFFSETTO:-0400
RDATE:20270314T020000
END:DAYLIGHT
END:VTIMEZONE
BEGIN:VEVENT
UID:f6d26db6-2c2e-43ee-94a8-f3334d8e8291
DTSTAMP:20260420T042819Z
DESCRIPTION:Have fun decorating Easter eggs at RSS.
DTSTART;TZID=America/New_York:20260403T104500
DTEND;TZID=America/New_York:20260403T120000
LOCATION:
SUMMARY:Fun Friday: Decorating Easter Eggs (In Center)
END:VEVENT
END:VCALENDAR
