BEGIN:VCALENDAR
VERSION:2.0
PRODID:-//rssny.org//NONSGML kigkonsult.se iCalcreator 2.30.10//
CALSCALE:GREGORIAN
METHOD:PUBLISH
UID:aa827029-4bd6-476d-bfc7-c055d9f67493
X-WR-CALDESC:Join us for breakfast at the Center!
X-WR-RELCALID:b5a16751cf122f1b4ceb758571281787
X-WR-TIMEZONE:America/New_York
BEGIN:VTIMEZONE
TZID:America/New_York
BEGIN:STANDARD
TZNAME:EST
DTSTART:20251102T020000
TZOFFSETFROM:-0400
TZOFFSETTO:-0500
RDATE:20261101T020000
END:STANDARD
BEGIN:DAYLIGHT
TZNAME:EDT
DTSTART:20260308T020000
TZOFFSETFROM:-0500
TZOFFSETTO:-0400
RDATE:20270314T020000
END:DAYLIGHT
END:VTIMEZONE
BEGIN:VEVENT
UID:2e118dbc-dc35-487c-9408-65a103c0d001
DTSTAMP:20260420T043816Z
DESCRIPTION:Join us for breakfast at the Center!
DTSTART;TZID=America/New_York:20260403T090000
DTEND;TZID=America/New_York:20260403T100000
LOCATION:
SUMMARY:Breakfast Club (In Center)
END:VEVENT
END:VCALENDAR
