BEGIN:VCALENDAR
VERSION:2.0
PRODID:-//rssny.org//NONSGML kigkonsult.se iCalcreator 2.30.10//
CALSCALE:GREGORIAN
METHOD:PUBLISH
UID:8be926d0-ae23-4a44-b37a-fffd5122cbc5
X-WR-CALDESC:Join us for breakfast at the Center!
X-WR-RELCALID:1b4275bc9314225c47be7c6ddbaf01ff
X-WR-TIMEZONE:America/New_York
BEGIN:VTIMEZONE
TZID:America/New_York
BEGIN:STANDARD
TZNAME:EST
DTSTART:20251102T020000
TZOFFSETFROM:-0400
TZOFFSETTO:-0500
RDATE:20261101T020000
END:STANDARD
BEGIN:DAYLIGHT
TZNAME:EDT
DTSTART:20260308T020000
TZOFFSETFROM:-0500
TZOFFSETTO:-0400
RDATE:20270314T020000
END:DAYLIGHT
END:VTIMEZONE
BEGIN:VEVENT
UID:de5860a7-d993-4cc9-9273-73127790042d
DTSTAMP:20260420T043331Z
DESCRIPTION:Join us for breakfast at the Center!
DTSTART;TZID=America/New_York:20260401T090000
DTEND;TZID=America/New_York:20260401T100000
LOCATION:
SUMMARY:Breakfast Club (In Center)
END:VEVENT
END:VCALENDAR
