BEGIN:VCALENDAR
VERSION:2.0
PRODID:-//rssny.org//NONSGML kigkonsult.se iCalcreator 2.30.10//
CALSCALE:GREGORIAN
METHOD:PUBLISH
UID:f54973f2-538c-43cf-bfe8-fbfbb414bee1
X-WR-CALDESC:Join us at RSS for a fun-filled evening with good food and ent
 ertainment.  Suggested Donation $5. Pay at the door or in the main office.
X-WR-RELCALID:d8184de62a17d43fc4e98bd2fc3fe5e7
X-WR-TIMEZONE:America/New_York
BEGIN:VTIMEZONE
TZID:America/New_York
BEGIN:STANDARD
TZNAME:EST
DTSTART:20251102T020000
TZOFFSETFROM:-0400
TZOFFSETTO:-0500
RDATE:20261101T020000
END:STANDARD
BEGIN:DAYLIGHT
TZNAME:EDT
DTSTART:20260308T020000
TZOFFSETFROM:-0500
TZOFFSETTO:-0400
RDATE:20270314T020000
END:DAYLIGHT
END:VTIMEZONE
BEGIN:VEVENT
UID:2476c58d-eed4-4d69-824d-dab76d7b16be
DTSTAMP:20260420T060211Z
DESCRIPTION:Join us at RSS for a fun-filled evening with good food and ente
 rtainment.  Suggested Donation $5. Pay at the door or in the main office.
DTSTART;TZID=America/New_York:20260328T150000
DTEND;TZID=America/New_York:20260328T170000
LOCATION:
SUMMARY:St. Patrick's Day Celebration Dinner
END:VEVENT
END:VCALENDAR
