BEGIN:VCALENDAR
VERSION:2.0
PRODID:-//rssny.org//NONSGML kigkonsult.se iCalcreator 2.30.10//
CALSCALE:GREGORIAN
METHOD:PUBLISH
UID:3dd39872-6e69-4983-9e94-4719d3567497
X-WR-CALDESC:Come and start your morning with Chair yoga and meditation.
X-WR-RELCALID:e5ce3a739fb398bc19b1cb691a33b193
X-WR-TIMEZONE:America/New_York
BEGIN:VTIMEZONE
TZID:America/New_York
BEGIN:STANDARD
TZNAME:EST
DTSTART:20251102T020000
TZOFFSETFROM:-0400
TZOFFSETTO:-0500
RDATE:20261101T020000
END:STANDARD
BEGIN:DAYLIGHT
TZNAME:EDT
DTSTART:20260308T020000
TZOFFSETFROM:-0500
TZOFFSETTO:-0400
RDATE:20270314T020000
END:DAYLIGHT
END:VTIMEZONE
BEGIN:VEVENT
UID:b5f984ae-a5e0-489b-8ffc-e7246b7ecc5d
DTSTAMP:20260420T063509Z
DESCRIPTION:Come and start your morning with Chair yoga and meditation.
DTSTART;TZID=America/New_York:20260326T094500
DTEND;TZID=America/New_York:20260326T104500
LOCATION:
SUMMARY:Chair Yoga with Anita: Strengthen and Balance (In Center)
END:VEVENT
END:VCALENDAR
